BEGIN:VCALENDAR
VERSION:2.0
PRODID:-//Château de Latour - ECPv6.15.20//NONSGML v1.0//EN
CALSCALE:GREGORIAN
METHOD:PUBLISH
X-ORIGINAL-URL:https://chateaudelatour-aveyron.fr
X-WR-CALDESC:Évènements pour Château de Latour
REFRESH-INTERVAL;VALUE=DURATION:PT1H
X-Robots-Tag:noindex
X-PUBLISHED-TTL:PT1H
BEGIN:VTIMEZONE
TZID:Europe/Helsinki
BEGIN:DAYLIGHT
TZOFFSETFROM:+0200
TZOFFSETTO:+0300
TZNAME:EEST
DTSTART:20250330T010000
END:DAYLIGHT
BEGIN:STANDARD
TZOFFSETFROM:+0300
TZOFFSETTO:+0200
TZNAME:EET
DTSTART:20251026T010000
END:STANDARD
BEGIN:DAYLIGHT
TZOFFSETFROM:+0200
TZOFFSETTO:+0300
TZNAME:EEST
DTSTART:20260329T010000
END:DAYLIGHT
BEGIN:STANDARD
TZOFFSETFROM:+0300
TZOFFSETTO:+0200
TZNAME:EET
DTSTART:20261025T010000
END:STANDARD
BEGIN:DAYLIGHT
TZOFFSETFROM:+0200
TZOFFSETTO:+0300
TZNAME:EEST
DTSTART:20270328T010000
END:DAYLIGHT
BEGIN:STANDARD
TZOFFSETFROM:+0300
TZOFFSETTO:+0200
TZNAME:EET
DTSTART:20271031T010000
END:STANDARD
END:VTIMEZONE
BEGIN:VEVENT
DTSTART;TZID=Europe/Helsinki:20260316T180000
DTEND;TZID=Europe/Helsinki:20260316T193000
DTSTAMP:20260424T200216
CREATED:20260225T145056Z
LAST-MODIFIED:20260225T145056Z
UID:4002-1773684000-1773689400@chateaudelatour-aveyron.fr
SUMMARY:RÉUNION D'INFORMATION
DESCRIPTION:Et si nous partagions nos véhicules ? \nCertaines personnes ont le permis mais pas de voiture… Certaines ont une voiture qui ne roule pas tout le temps. \nNous avons le projet de lancer un groupe de partage « Coloc’Auto » ouvert à tous. \nPour en parler\, décrire vos besoins et vos usages\, emprunteurs ou prêteurs. Venez le Lundi 16 mars à 18h au Château de Latour pour parler et décider d’une organisation en présence de Cassandre JAMET. \nInfos : 07 70 06 03 11
URL:https://chateaudelatour-aveyron.fr/event/reunion-dinformation
LOCATION:Château de Latour sur Sorgues\, 2 Rue Principale\, Latour sur Sorgues\, 12540
ATTACH;FMTTYPE=image/png:https://chateaudelatour-aveyron.fr/wp-content/uploads/2026/02/ecf788db-8148-e089-8c82-9c4edfa03d40.png
END:VEVENT
BEGIN:VEVENT
DTSTART;TZID=Europe/Helsinki:20260320T170000
DTEND;TZID=Europe/Helsinki:20260320T233000
DTSTAMP:20260424T200216
CREATED:20260225T145501Z
LAST-MODIFIED:20260225T145501Z
UID:4005-1774026000-1774049400@chateaudelatour-aveyron.fr
SUMMARY:CHEF HERVÉ PROPOSE UN REPAS MÉDIÉVAL
DESCRIPTION:Le 20 mars\, Chef ’Hervé\, en collaboration avec le Château\, vous propose une fin de journée et une soirée pour un véritable retour au XIVᵉ siècle. \nAu programme : un repas riche aux saveurs d’antan où les épices délicates et non piquantes\, ainsi que le safran\, occupent une place de choix. Les produits locaux et de saison seront mis à l’honneur afin de vous offrir une expérience authentique et gourmande. \nSur le parvis du Château\, un marché artisanal se tiendra à compter de 17 h avec : démonstration de forge\, présence d’une maroquinière médiévale\, atelier de poterie\, vente de légumes\, jour de fournil pour la boulangère. \nPour vous divertir\, des démonstrations de chevaliers et un espace d’armurerie seront proposés par l’association Les Parias du Rouergue. \nLe Château vous proposera un breuvage médiéval à découvrir pour l’apéritif afin de débuter cette soirée dans l’esprit d’époque. \nVous êtes conviés à festoyer dans l’auberge de la grande salle voûtée du Château à compter de 19 h 30 où le festin sera servi lorsque tous les convives seront réunis. \nNous comptons sur vous pour partager ce moment convivial et chaleureux\, si vous le souhaitez en costume\, et toujours dans la bonne humeur. \nGustativement vôtre\, \nInfos et réservation : 07 70 06 03 11
URL:https://chateaudelatour-aveyron.fr/event/chef-herve-propose-un-repas-medieval
LOCATION:Château de Latour sur Sorgues\, 2 Rue Principale\, Latour sur Sorgues\, 12540
ATTACH;FMTTYPE=image/png:https://chateaudelatour-aveyron.fr/wp-content/uploads/2026/02/e945dbbd-8595-8c6f-540b-ed340e184ab5.png
END:VEVENT
BEGIN:VEVENT
DTSTART;TZID=Europe/Helsinki:20260327T180000
DTEND;TZID=Europe/Helsinki:20260327T210000
DTSTAMP:20260424T200216
CREATED:20260225T145740Z
LAST-MODIFIED:20260225T145740Z
UID:4008-1774634400-1774645200@chateaudelatour-aveyron.fr
SUMMARY:LA VALLÉE ET SES INCROYABLES TALENTS
DESCRIPTION:La Vallée a du talent… et il est temps de le montrer ! \nNous vous invitons à une soirée conviviale et festive où chacun pourra monter sur scène et partager son talent : chant\,danse\, musique\, humour\, poésie\, magie… tout est permis ! \nSur place\, du matériel sera mis à disposition : piano\, guitare\, micro et sono pour vous accompagner dans vos performances. \nQue vous soyez artiste confirmé ou amateur passionné\, venez révéler votre talent dans une ambiance chaleureuse et bienveillante. \nEt si vous préférez encourager les artistes\, installez-vous confortablement et profitez du spectacle ! \nOsez monter sur scène… La Vallée vous applaudit déjà ! \nInfos : 07 70 06 03 11
URL:https://chateaudelatour-aveyron.fr/event/la-vallee-et-ses-incroyables-talents
LOCATION:Château de Latour sur Sorgues\, 2 Rue Principale\, Latour sur Sorgues\, 12540
ATTACH;FMTTYPE=image/png:https://chateaudelatour-aveyron.fr/wp-content/uploads/2026/02/6d8db407-19a8-e02a-5184-bbada5ec86ce.png
END:VEVENT
END:VCALENDAR