BEGIN:VCALENDAR
VERSION:2.0
PRODID:-//Château de Latour - ECPv6.15.20//NONSGML v1.0//EN
CALSCALE:GREGORIAN
METHOD:PUBLISH
X-ORIGINAL-URL:https://chateaudelatour-aveyron.fr
X-WR-CALDESC:Évènements pour Château de Latour
REFRESH-INTERVAL;VALUE=DURATION:PT1H
X-Robots-Tag:noindex
X-PUBLISHED-TTL:PT1H
BEGIN:VTIMEZONE
TZID:Europe/Helsinki
BEGIN:DAYLIGHT
TZOFFSETFROM:+0200
TZOFFSETTO:+0300
TZNAME:EEST
DTSTART:20250330T010000
END:DAYLIGHT
BEGIN:STANDARD
TZOFFSETFROM:+0300
TZOFFSETTO:+0200
TZNAME:EET
DTSTART:20251026T010000
END:STANDARD
BEGIN:DAYLIGHT
TZOFFSETFROM:+0200
TZOFFSETTO:+0300
TZNAME:EEST
DTSTART:20260329T010000
END:DAYLIGHT
BEGIN:STANDARD
TZOFFSETFROM:+0300
TZOFFSETTO:+0200
TZNAME:EET
DTSTART:20261025T010000
END:STANDARD
BEGIN:DAYLIGHT
TZOFFSETFROM:+0200
TZOFFSETTO:+0300
TZNAME:EEST
DTSTART:20270328T010000
END:DAYLIGHT
BEGIN:STANDARD
TZOFFSETFROM:+0300
TZOFFSETTO:+0200
TZNAME:EET
DTSTART:20271031T010000
END:STANDARD
END:VTIMEZONE
BEGIN:VEVENT
DTSTART;TZID=Europe/Helsinki:20260206T183000
DTEND;TZID=Europe/Helsinki:20260206T210000
DTSTAMP:20260424T212025
CREATED:20260130T180107Z
LAST-MODIFIED:20260130T180107Z
UID:3991-1770402600-1770411600@chateaudelatour-aveyron.fr
SUMMARY:CHANDELEUR AU CHÂTEAU
DESCRIPTION:Le Château fête la Chandeleur ! \nRendez-vous le Vendredi 6 février à partir de 18h30 pour une soirée conviviale et gourmande autour des crêpes… Cette fois\, chacun apporte ses propres crêpes pour partager les goûts\, les recettes et les petites spécialités qui font la différence. \nConfitures\, pâtes à tartiner\, condiments maison… il est temps de sortir les bocaux et les recettes secrètes ! \nOn vous attend nombreux pour ce moment de partage et de dégustation. \nPlus d’infos : 07 70 06 03 11
URL:https://chateaudelatour-aveyron.fr/event/chandeleur-au-chateau-2
LOCATION:Château de Latour sur Sorgues\, 2 Rue Principale\, Latour sur Sorgues\, 12540
ATTACH;FMTTYPE=image/png:https://chateaudelatour-aveyron.fr/wp-content/uploads/2026/01/RS-fevrier.png
END:VEVENT
END:VCALENDAR