BEGIN:VCALENDAR
VERSION:2.0
PRODID:-//Château de Latour - ECPv6.15.20//NONSGML v1.0//EN
CALSCALE:GREGORIAN
METHOD:PUBLISH
X-WR-CALNAME:Château de Latour
X-ORIGINAL-URL:https://chateaudelatour-aveyron.fr
X-WR-CALDESC:Évènements pour Château de Latour
REFRESH-INTERVAL;VALUE=DURATION:PT1H
X-Robots-Tag:noindex
X-PUBLISHED-TTL:PT1H
BEGIN:VTIMEZONE
TZID:Europe/Helsinki
BEGIN:DAYLIGHT
TZOFFSETFROM:+0200
TZOFFSETTO:+0300
TZNAME:EEST
DTSTART:20250330T010000
END:DAYLIGHT
BEGIN:STANDARD
TZOFFSETFROM:+0300
TZOFFSETTO:+0200
TZNAME:EET
DTSTART:20251026T010000
END:STANDARD
BEGIN:DAYLIGHT
TZOFFSETFROM:+0200
TZOFFSETTO:+0300
TZNAME:EEST
DTSTART:20260329T010000
END:DAYLIGHT
BEGIN:STANDARD
TZOFFSETFROM:+0300
TZOFFSETTO:+0200
TZNAME:EET
DTSTART:20261025T010000
END:STANDARD
BEGIN:DAYLIGHT
TZOFFSETFROM:+0200
TZOFFSETTO:+0300
TZNAME:EEST
DTSTART:20270328T010000
END:DAYLIGHT
BEGIN:STANDARD
TZOFFSETFROM:+0300
TZOFFSETTO:+0200
TZNAME:EET
DTSTART:20271031T010000
END:STANDARD
END:VTIMEZONE
BEGIN:VEVENT
DTSTART;TZID=Europe/Helsinki:20260424T183000
DTEND;TZID=Europe/Helsinki:20260424T200000
DTSTAMP:20260424T153529
CREATED:20260420T142414Z
LAST-MODIFIED:20260420T142414Z
UID:4039-1777055400-1777060800@chateaudelatour-aveyron.fr
SUMMARY:EXPOSITION PHOTO COCOTTE QUI CHUCHOTE
DESCRIPTION:Retour d’expérience – Dans la vapeur des coulisses\n\nNous avons le plaisir de vous inviter au Château de Latour le Vendredi 24 avril à 18h30 pour découvrir une exposition photographique retraçant l’aventure de La Cocotte qui chuchote 2025\, un projet mitonné par le Parc Naturel Régional des Grands Causses et cinq tiers-lieux du territoire. \nÀ travers le regard sensible et engagé de Marie DEMUNTER\, photographe\, cette exposition propose un retour en images sur les temps forts\, les rencontres et l’énergie collective qui ont marqué cette aventure humaine et territoriale. \nLe vernissage sera suivi du pot d’accueil des saisonniers\, proposé par l’Association des Amis du Château de Latour\, un moment convivial pour se retrouver\, échanger et célébrer le lancement de la saison ensemble. \nVenez nombreux(ses) à cette rencontre ! \nInfos : 07 70 06 03 11
URL:https://chateaudelatour-aveyron.fr/event/exposition-photo-cocotte-qui-chuchote
LOCATION:Château de Latour sur Sorgues\, 2 Rue Principale\, Latour sur Sorgues\, 12540
ATTACH;FMTTYPE=image/png:https://chateaudelatour-aveyron.fr/wp-content/uploads/2026/04/Cocotte-expo.png
END:VEVENT
BEGIN:VEVENT
DTSTART;TZID=Europe/Helsinki:20260424T193000
DTEND;TZID=Europe/Helsinki:20260424T210000
DTSTAMP:20260424T153529
CREATED:20260420T142535Z
LAST-MODIFIED:20260420T142535Z
UID:4042-1777059000-1777064400@chateaudelatour-aveyron.fr
SUMMARY:POT D'ACCUEIL DES SAISONNIERS
DESCRIPTION:Nous vous invitons à nous rejoindre le Vendredi 24 avril pour un pot d’accueil des saisonniers\, ouvert à toutes et tous. Un moment convivial pour accueillir les saisonniers\, discuter et partager un temps chaleureux ensemble au château.\n\nVenez nombreux pour ce temps de rencontre et de convivialité !
URL:https://chateaudelatour-aveyron.fr/event/pot-daccueil-des-saisonniers
LOCATION:Château de Latour sur Sorgues\, 2 Rue Principale\, Latour sur Sorgues\, 12540
ATTACH;FMTTYPE=image/png:https://chateaudelatour-aveyron.fr/wp-content/uploads/2026/04/Les-jeunes.png
END:VEVENT
BEGIN:VEVENT
DTSTART;TZID=Europe/Helsinki:20260501T203000
DTEND;TZID=Europe/Helsinki:20260501T230000
DTSTAMP:20260424T153529
CREATED:20260420T142938Z
LAST-MODIFIED:20260420T142938Z
UID:4045-1777667400-1777676400@chateaudelatour-aveyron.fr
SUMMARY:QUINE TRADITIONNEL DE L'ASSOCIATION DES AMIS DU CHÂTEAU DE LATOUR
DESCRIPTION:Quine traditionnel de l’Association des Amis du Château de Latour \nLe château s’anime le temps d’une soirée et les cartons sont de sortie !\nL’Association des Amis du Château de Latour vous donne rendez‑vous pour son quine traditionnel\, un moment convivial où l’on vient surtout pour passer un bon moment… et repartir avec de beaux lots si la chance est au rendez‑vous. \nQue vous veniez entre amis\, en famille ou en solo\, l’ambiance promet d’être chaleureuse et animée. \nRendez-vous le Vendredi 1 mai à 20h30. Et si vous ne pouvez pas être présent le soir même\, vous pouvez réserver vos cartons à l’avance. \nInfos : 07 70 06 03 11
URL:https://chateaudelatour-aveyron.fr/event/quine-traditionnel-de-lassociation-des-amis-du-chateau-de-latour-2
LOCATION:Château de Latour sur Sorgues\, 2 Rue Principale\, Latour sur Sorgues\, 12540
ATTACH;FMTTYPE=image/png:https://chateaudelatour-aveyron.fr/wp-content/uploads/2026/04/Quine.png
END:VEVENT
BEGIN:VEVENT
DTSTART;TZID=Europe/Helsinki:20260502T170000
DTEND;TZID=Europe/Helsinki:20260502T190000
DTSTAMP:20260424T153529
CREATED:20260420T143215Z
LAST-MODIFIED:20260420T143215Z
UID:4048-1777741200-1777748400@chateaudelatour-aveyron.fr
SUMMARY:ASSEMBLÉE GÉNÉRALE DE L'ASSOCIATION DES AMIS DU CHÂTEAU DE LATOUR
DESCRIPTION:Convocation à la 35ᵉ Assemblée Générale\nAssociation des Amis du Château de Latour sur Sorgues \nQue vous soyez membre de longue date\, passionné d’histoire ou simplement heureux de faire partie de l’aventure\, cette Assemblée Générale est l’occasion de revenir sur l’année écoulée\, de découvrir les projets à venir et de partager un moment d’échange et de convivialité. Rendez-vous le Samedi 2 mai à 17h. \nÀ l’ordre du jour :  \n\nBilan moral : retour sur l’année écoulée\, travaux\, animations\, perspectives\nBilan financier\nApprobations des bilans\nRenouvellement de la partie sortante du Conseil d’Administration\nLes projets 2026 et la suite\nQuestions diverses\nRenouvellement des cotisations\n\nSi vous êtes absent(e) le jour de l’Assemblée Générale\, vous avez la possibilité d’établir un pouvoir sur papier libre et nous le transmettre. \nÀ l’issue de l’Assemblée Générale\, nous vous proposons de prolonger la soirée dans une ambiance chaleureuse et détendue pour un apéro partagé\, suivi du spectacle « Monique sous les platanes » proposé par le Collectif La Moire\, le même jour à 20h. Un beau moment pour se retrouver et profiter ensemble de la soirée. \nInfos : 07 70 06 03 11
URL:https://chateaudelatour-aveyron.fr/event/assemblee-generale-de-lassociation-des-amis-du-chateau-de-latour-2
LOCATION:Château de Latour sur Sorgues\, 2 Rue Principale\, Latour sur Sorgues\, 12540
ATTACH;FMTTYPE=image/png:https://chateaudelatour-aveyron.fr/wp-content/uploads/2026/04/AG.png
END:VEVENT
BEGIN:VEVENT
DTSTART;TZID=Europe/Helsinki:20260502T200000
DTEND;TZID=Europe/Helsinki:20260502T220000
DTSTAMP:20260424T153529
CREATED:20260420T143508Z
LAST-MODIFIED:20260420T143508Z
UID:4051-1777752000-1777759200@chateaudelatour-aveyron.fr
SUMMARY:SPECTACLE MONIQUE SOUS LES PLATANES
DESCRIPTION:Nous avons le plaisir d’accueillir le Collectif La Moire au Château de Latour\, le Samedi 2 mai à 20h ! \nD’origine marseillaise\, le collectif propose ses créations aussi bien sur une place de village que dans un théâtre\, sur un parking ou au détour d’un champ. Peu importe le lieu\, ici on se retrouve autour du bar “Les Platanes” et parler de filiation au féminin\, de grande distribution\, de porto et de transmission entre les générations. \nAu programme : Un spectacle d’1h10 intitulé « Monique sous les platanes » où une comédienne et un contrebassiste joueront devant vous. Préparez-vous à vivre un moment unique et chaleureux ! \nAlors\, curieux ? Envie de découvrir ce qui amène 9 personnages à se retrouver au bar “Les Platanes” ? On vous attend nombreux ! \nEn collaboration avec 1000 cafés et Fondation Malongo. \nRéservation : 07 70 06 03 11
URL:https://chateaudelatour-aveyron.fr/event/spectacle-monique-sous-les-platanes
LOCATION:Château de Latour sur Sorgues\, 2 Rue Principale\, Latour sur Sorgues\, 12540
ATTACH;FMTTYPE=image/png:https://chateaudelatour-aveyron.fr/wp-content/uploads/2026/04/Spectacle.png
END:VEVENT
END:VCALENDAR